
BEGIN:VCALENDAR
VERSION:2.0
PRODID:-//MarkedsPartner AS//Umbraco CMS//NO
TIMEZONE-ID:Europe/Oslo
X-WR-TIMEZONE:Europe/Oslo


BEGIN:VEVENT
UID:a337d8db5c8f4dba92892bec7ffed5ee
URL:https://umbraco.naeringsforeningen.no/moeter/arkiv/powerpoint300423/
ORGANIZER;CN=Ola Normann:MAILTO:ola.normann@markedspartner.no
DTSTAMP:20240430T090000Z
DTSTART:20240430T090000Z
DTEND:20240430T103000Z
LAST-MODIFIED:20240502T071228Z
SUMMARY:Bli konge på Powerpoint
DESCRIPTION:En god presentasjon kan være avgjørende for om publikumet ditt sovner eller faktisk hører på deg. Are Sleveland gir deg sine beste tips om hvordan presentasjonen din kan støtte budskapet ditt best mulig og hjelpe deg å huske hva du skal si. Bli konge på Powerpoint!
X-ALT-DESC:En god presentasjon kan v&#230;re avgj&#248;rende for om publikumet ditt sovner eller faktisk h&#248;rer p&#229; deg. Are Sleveland gir deg sine beste tips om hvordan presentasjonen din kan st&#248;tte budskapet ditt best mulig og hjelpe deg &#229; huske hva du skal si. Bli konge p&#229; Powerpoint!
LOCATION:Rosenkildehuset
END:VEVENT


END:VCALENDAR



