
BEGIN:VCALENDAR
VERSION:2.0
PRODID:-//MarkedsPartner AS//Umbraco CMS//NO
TIMEZONE-ID:Europe/Oslo
X-WR-TIMEZONE:Europe/Oslo


BEGIN:VEVENT
UID:fb1b608d67f34a2190b0f689f39a9e9b
URL:https://umbraco.naeringsforeningen.no/moeter/arkiv/pion&#233;r22/
ORGANIZER;CN=Ola Normann:MAILTO:ola.normann@markedspartner.no
DTSTAMP:20221006T070000Z
DTSTART:20221006T070000Z
DTEND:20221006T140000Z
LAST-MODIFIED:20221031T115810Z
SUMMARY:Pionér 2022
DESCRIPTION:I Rogaland har vi mange pionerer, og vi ønsker å vise fram hva regionen har å by på. Som gjest på Bærekraftskonferansen Pionér treffer du pionerer innen ulike disipliner, alle med fokus på bærekraft, omstilling og vekst.
X-ALT-DESC:I Rogaland har vi mange pionerer, og vi &#248;nsker &#229; vise fram hva regionen har &#229; by p&#229;.&#160;Som gjest p&#229; B&#230;rekraftskonferansen Pion&#233;r treffer du pionerer innen ulike disipliner, alle med fokus p&#229; b&#230;rekraft, omstilling og vekst.
LOCATION:Gaffel og Karaffel, &#216;vre Holmegate/Fargegata, Stavanger
END:VEVENT


END:VCALENDAR



