
BEGIN:VCALENDAR
VERSION:2.0
PRODID:-//MarkedsPartner AS//Umbraco CMS//NO
TIMEZONE-ID:Europe/Oslo
X-WR-TIMEZONE:Europe/Oslo


BEGIN:VEVENT
UID:b9d7dc3cca5c4ccc98d4c96eecc38004
URL:https://umbraco.naeringsforeningen.no/moeter/arkiv/pion&#232;r2023/
ORGANIZER;CN=Ola Normann:MAILTO:ola.normann@markedspartner.no
DTSTAMP:20230921T060000Z
DTSTART:20230921T060000Z
DTEND:20230921T140000Z
LAST-MODIFIED:20230925T092553Z
SUMMARY:PIONÉR 2023
DESCRIPTION:I helt unike omgivelser, ønsker vi velkommen til årets Pionér på Flor og Fjære.
X-ALT-DESC:I helt unike omgivelser, &#248;nsker vi velkommen til &#229;rets Pion&#233;r p&#229; Flor og Fj&#230;re.
LOCATION:Flor &amp; Fj&#230;re
END:VEVENT


END:VCALENDAR



