
BEGIN:VCALENDAR
VERSION:2.0
PRODID:-//MarkedsPartner AS//Umbraco CMS//NO
TIMEZONE-ID:Europe/Oslo
X-WR-TIMEZONE:Europe/Oslo


BEGIN:VEVENT
UID:1b418564c4ec43c68add487267980031
URL:https://umbraco.naeringsforeningen.no/moeter/arkiv/paneldebatt-med-ordfoererne-i-dalane_181023/
ORGANIZER;CN=Ola Normann:MAILTO:ola.normann@markedspartner.no
DTSTAMP:20231018T160000Z
DTSTART:20231018T160000Z
DTEND:20231018T180000Z
LAST-MODIFIED:20231019T152749Z
SUMMARY:Treffpunkt Dalane: Paneldebatt med ordførerne i Dalane
DESCRIPTION:Vi inviterer til paneldebatt med ordførerne i Dalane etter valget.
X-ALT-DESC:Vi inviterer til paneldebatt med ordf&#248;rerne i Dalane etter valget.
LOCATION:Grand Hotell Egersund
END:VEVENT


END:VCALENDAR



