
BEGIN:VCALENDAR
VERSION:2.0
PRODID:-//MarkedsPartner AS//Umbraco CMS//NO
TIMEZONE-ID:Europe/Oslo
X-WR-TIMEZONE:Europe/Oslo


BEGIN:VEVENT
UID:c62ea90c3ae54e6faf9b9a26d5b3157e
URL:https://umbraco.naeringsforeningen.no/moeter/arkiv/otc-program-2023/
ORGANIZER;CN=Ola Normann:MAILTO:ola.normann@markedspartner.no
DTSTAMP:20230430T160000Z
DTSTART:20230430T160000Z
DTEND:20230430T161000Z
LAST-MODIFIED:20230501T173505Z
SUMMARY:OTC program 2023
DESCRIPTION:Mange bedrifter fra Stavanger-regionen skal til OTC, Houston,  som utstillere eller besøkende.  Det legges opp til en del felles arrangement og møteplasser i løpet av uken.  Se mer informasjon nedenfor hvis du skal til Houston og vil motta invitasjoner.
X-ALT-DESC:Mange bedrifter fra Stavanger-regionen skal til OTC, Houston,  som utstillere eller bes&#248;kende.  Det legges opp til en del felles arrangement og m&#248;teplasser i l&#248;pet av uken.  Se mer informasjon nedenfor hvis du skal til Houston og vil motta invitasjoner.
LOCATION:Houston, TX
END:VEVENT


END:VCALENDAR



