
BEGIN:VCALENDAR
VERSION:2.0
PRODID:-//MarkedsPartner AS//Umbraco CMS//NO
TIMEZONE-ID:Europe/Oslo
X-WR-TIMEZONE:Europe/Oslo


BEGIN:VEVENT
UID:d8fced8da5324db787f762c6e227cb12
URL:https://umbraco.naeringsforeningen.no/moeter/arkiv/otc-houston-reception/
ORGANIZER;CN=Ola Normann:MAILTO:ola.normann@markedspartner.no
DTSTAMP:20230323T170000Z
DTSTART:20230323T170000Z
DTEND:20230323T193000Z
LAST-MODIFIED:20230323T201740Z
SUMMARY:OTC/Houston Reception
DESCRIPTION:Join us in real Texas spirit! You will be served information on OTC 2023, new contacts and business opportunities in Houston.
X-ALT-DESC:Join us in real Texas spirit! You will be served information on OTC 2023, new contacts and business opportunities in Houston.
LOCATION:Rosenkildehuset, Strandkaien 6, 4005 Stavanger
END:VEVENT


END:VCALENDAR



