
BEGIN:VCALENDAR
VERSION:2.0
PRODID:-//MarkedsPartner AS//Umbraco CMS//NO
TIMEZONE-ID:Europe/Oslo
X-WR-TIMEZONE:Europe/Oslo


BEGIN:VEVENT
UID:85970fe0491a45f0ae0038ab8f6f42ad
URL:https://umbraco.naeringsforeningen.no/moeter/arkiv/ons-young-talk-1/
ORGANIZER;CN=Ola Normann:MAILTO:ola.normann@markedspartner.no
DTSTAMP:20210608T163000Z
DTSTART:20210608T163000Z
DTEND:20210608T180000Z
LAST-MODIFIED:20221031T122015Z
SUMMARY:Framtidens arbeidsplass: En dialog mellom generasjoner
DESCRIPTION:DIGITALKONFERANSE: Hvordan skaper vi framtidens arbeidsliv? Generasjonene snakker mye om hverandre og ytrer forventninger, men sjeldnere snakker man faktisk med hverandre.
X-ALT-DESC:DIGITALKONFERANSE: Hvordan skaper vi framtidens arbeidsliv? Generasjonene snakker mye om hverandre og ytrer forventninger, men sjeldnere snakker man faktisk med hverandre.
LOCATION:online
END:VEVENT


END:VCALENDAR



