
BEGIN:VCALENDAR
VERSION:2.0
PRODID:-//MarkedsPartner AS//Umbraco CMS//NO
TIMEZONE-ID:Europe/Oslo
X-WR-TIMEZONE:Europe/Oslo


BEGIN:VEVENT
UID:d4937ee4b6e34bd99fdf725227b9268e
URL:https://umbraco.naeringsforeningen.no/moeter/arkiv/oljetrykket-2025/
ORGANIZER;CN=Ola Normann:MAILTO:ola.normann@markedspartner.no
DTSTAMP:20250515T093000Z
DTSTART:20250515T093000Z
DTEND:20250515T114500Z
LAST-MODIFIED:20250515T131231Z
SUMMARY:Oljetrykket 2025: Status og framtidsutsikter
DESCRIPTION:Oljeprisen vingler. Det har stor påvirkning på lokalt næringsliv. Toll og handelskrig slår rett inn i verdensøkonomien. Når Saudi Arabia også øker produksjon, så skaker og utsiktene for oljeprisen. Hvor langt ned kan prisen gå før vi ser store konsekvenser? Hva sier oljeanalytiker Helge André Martinsen i DNB om framtiden for energi og oljeprisen?
I tillegg kommer Marianne Bjelland og redegjør for Equinors vekst og verdiskapning på norsk sokkel og William Johnsen fra Offshore Norge presenterer Ringvirkningsanalysen 2025. Velkommen på Oljetrykket!
X-ALT-DESC:Oljeprisen vingler. Det har stor p&#229;virkning p&#229; lokalt n&#230;ringsliv. Toll og handelskrig sl&#229;r rett inn i verdens&#248;konomien. N&#229;r Saudi Arabia ogs&#229; &#248;ker produksjon, s&#229; skaker og utsiktene for oljeprisen. Hvor langt ned kan prisen g&#229; f&#248;r vi ser store konsekvenser? Hva sier oljeanalytiker Helge Andr&#233; Martinsen i DNB om framtiden for energi og oljeprisen?
I tillegg kommer Marianne Bjelland og redegj&#248;r for Equinors vekst og verdiskapning p&#229; norsk sokkel og William Johnsen fra Offshore Norge presenterer Ringvirkningsanalysen 2025. Velkommen p&#229; Oljetrykket!
LOCATION:Rosenkildehuset
END:VEVENT


END:VCALENDAR



