
BEGIN:VCALENDAR
VERSION:2.0
PRODID:-//MarkedsPartner AS//Umbraco CMS//NO
TIMEZONE-ID:Europe/Oslo
X-WR-TIMEZONE:Europe/Oslo


BEGIN:VEVENT
UID:ab7588726beb4c1f934282304c4ad873
URL:https://umbraco.naeringsforeningen.no/moeter/arkiv/oljetrykket-2024/
ORGANIZER;CN=Ola Normann:MAILTO:ola.normann@markedspartner.no
DTSTAMP:20240530T093000Z
DTSTART:20240530T093000Z
DTEND:20240530T114500Z
LAST-MODIFIED:20250102T122010Z
SUMMARY:Oljetrykket 2024: Status og framtidsutsikter
DESCRIPTION:Hva sier oljeanalytiker Helge André Martinsen i DNB om framtiden for fossil energi og oljeprisen – og hva mener direktør for sikkerhet og bærekraft Ellen Waldeland Hoddell i Vår Energi? Hva er visjonen for energibransjens ledende konferanse- og utstillingsarena, ONS som nå runder 50 år? Dette og mere vil vi forsøke å gi svar på når vi inviterer til Oljetrykket 2024 i K8.
X-ALT-DESC:Hva sier oljeanalytiker Helge Andr&#233; Martinsen i&#160;DNB om framtiden for fossil energi og oljeprisen – og hva mener direkt&#248;r for sikkerhet og b&#230;rekraft Ellen Waldeland Hoddell i V&#229;r Energi? Hva er visjonen for energibransjens ledende konferanse- og utstillingsarena, ONS som n&#229; runder 50 &#229;r? Dette og mere vil vi fors&#248;ke &#229; gi svar p&#229; n&#229;r vi inviterer til Oljetrykket 2024 i K8.
LOCATION:K8, Stavanger
END:VEVENT


END:VCALENDAR



