
BEGIN:VCALENDAR
VERSION:2.0
PRODID:-//MarkedsPartner AS//Umbraco CMS//NO
TIMEZONE-ID:Europe/Oslo
X-WR-TIMEZONE:Europe/Oslo


BEGIN:VEVENT
UID:21466da9f90b497787c34d8e70a6a01e
URL:https://umbraco.naeringsforeningen.no/moeter/arkiv/oljetrykket-2023/
ORGANIZER;CN=Ola Normann:MAILTO:ola.normann@markedspartner.no
DTSTAMP:20230420T093000Z
DTSTART:20230420T093000Z
DTEND:20230420T120000Z
LAST-MODIFIED:20230421T103953Z
SUMMARY:Oljetrykket 2023: Status og framtidsutsikter
DESCRIPTION:Norge vil fortsatt være en viktig energileverandør til Europa. Påvirker krigen den videre energiutviklingen mot fornybar i positiv eller negativ retning? Hva sier oljeanalytiker Helge André Martinsen i DNB om framtiden for oljeprisen, og hva mener Kristin Kragseth i Petoro og Monica Bjørkmann i Subsea7 om den volatile situasjonen i energimarkedet?
X-ALT-DESC:Norge vil fortsatt v&#230;re en viktig energileverand&#248;r til Europa. P&#229;virker krigen den videre energiutviklingen mot fornybar i positiv eller negativ retning? Hva sier oljeanalytiker Helge Andr&#233; Martinsen i DNB om framtiden for oljeprisen, og hva mener Kristin Kragseth i Petoro og Monica Bj&#248;rkmann i Subsea7 om den volatile situasjonen i energimarkedet?
LOCATION:Rosenkildehuset
END:VEVENT


END:VCALENDAR



