
BEGIN:VCALENDAR
VERSION:2.0
PRODID:-//MarkedsPartner AS//Umbraco CMS//NO
TIMEZONE-ID:Europe/Oslo
X-WR-TIMEZONE:Europe/Oslo


BEGIN:VEVENT
UID:a199668fb1344099baa9b04ced5e54e1
URL:https://umbraco.naeringsforeningen.no/moeter/arkiv/oljetrykket-2022/
ORGANIZER;CN=Ola Normann:MAILTO:ola.normann@markedspartner.no
DTSTAMP:20220519T063000Z
DTSTART:20220519T063000Z
DTEND:20220519T090000Z
LAST-MODIFIED:20221031T121508Z
SUMMARY:Oljetrykket 2022 - krigens konsekvenser for energiprisene
DESCRIPTION:Hva blir Norges nye rolle i energimarkedet? Hvordan påvirker krigen utviklingen? Hva sier oljeanalytiker Helge André Martinsen om framtiden for oljeprisen, og hva mener næringslivet om næringen framover?
X-ALT-DESC:Hva blir Norges nye rolle i energimarkedet? Hvordan p&#229;virker krigen utviklingen? Hva sier oljeanalytiker Helge Andr&#233; Martinsen om framtiden for oljeprisen, og hva mener n&#230;ringslivet om n&#230;ringen framover?
LOCATION:Rosenkildehuset
END:VEVENT


END:VCALENDAR



