
BEGIN:VCALENDAR
VERSION:2.0
PRODID:-//MarkedsPartner AS//Umbraco CMS//NO
TIMEZONE-ID:Europe/Oslo
X-WR-TIMEZONE:Europe/Oslo


BEGIN:VEVENT
UID:fbc49716501248d7875e2a08be2eb290
URL:https://umbraco.naeringsforeningen.no/moeter/arkiv/oljetrykket-2021/
ORGANIZER;CN=Ola Normann:MAILTO:ola.normann@markedspartner.no
DTSTAMP:20210506T090000Z
DTSTART:20210506T090000Z
DTEND:20210506T101500Z
LAST-MODIFIED:20221031T121512Z
SUMMARY:Oljetrykket 2021
DESCRIPTION:DIGITALKONFERANSE: Hva sier oljeanalytiker Helge André Martinsen om framtiden for oljeprisen, hva mener næringslivet om oljenæringen framover? Bli med når DNB og Næringsforeningen for 10. gang inviterer til Oljetrykket.
X-ALT-DESC:DIGITALKONFERANSE: Hva sier oljeanalytiker Helge Andr&#233; Martinsen om framtiden for oljeprisen, hva mener n&#230;ringslivet om oljen&#230;ringen framover? Bli med n&#229;r DNB og N&#230;ringsforeningen for 10. gang inviterer til Oljetrykket.
LOCATION:webinar
END:VEVENT


END:VCALENDAR



