
BEGIN:VCALENDAR
VERSION:2.0
PRODID:-//MarkedsPartner AS//Umbraco CMS//NO
TIMEZONE-ID:Europe/Oslo
X-WR-TIMEZONE:Europe/Oslo


BEGIN:VEVENT
UID:b9408844772f43e4a7867125ad1c8f3c
URL:https://umbraco.naeringsforeningen.no/moeter/arkiv/oljetrykket-2020/
ORGANIZER;CN=Ola Normann:MAILTO:ola.normann@markedspartner.no
DTSTAMP:20200505T063000Z
DTSTART:20200505T063000Z
DTEND:20200505T081500Z
LAST-MODIFIED:20221031T120845Z
SUMMARY:Oljetrykket 2020
DESCRIPTION:Hva sier oljeanalytiker Helge André Martinsen om framtiden for oljeprisen, hva mener næringslivet om oljenæringen framover? Bli med når DNB og Næringsforeningen for 11. gang vi inviterer til Oljetrykket.
X-ALT-DESC:Hva sier oljeanalytiker Helge Andr&#233; Martinsen om framtiden for oljeprisen, hva mener n&#230;ringslivet om oljen&#230;ringen framover? Bli med n&#229;r DNB og N&#230;ringsforeningen for 11. gang vi inviterer til Oljetrykket.
LOCATION:Rosenkildehuset
END:VEVENT


END:VCALENDAR



