
BEGIN:VCALENDAR
VERSION:2.0
PRODID:-//MarkedsPartner AS//Umbraco CMS//NO
TIMEZONE-ID:Europe/Oslo
X-WR-TIMEZONE:Europe/Oslo


BEGIN:VEVENT
UID:4972bb87fefa40b2821330109461becc
URL:https://umbraco.naeringsforeningen.no/moeter/arkiv/oljefondet160621/
ORGANIZER;CN=Ola Normann:MAILTO:ola.normann@markedspartner.no
DTSTAMP:20210616T100000Z
DTSTART:20210616T100000Z
DTEND:20210616T113000Z
LAST-MODIFIED:20221031T122115Z
SUMMARY:Møt Nicolai Tangen!
DESCRIPTION:Næringsforeningen har gleden av å introdusere oljefondsjef Nicolai Tangen for næringslivet i Stavanger-regionen. På denne digitale konferansen får du høre Tangens foredrag om forvaltningen, utviklingen og ivaretakelsen av verdens største statlige fond.
X-ALT-DESC:N&#230;ringsforeningen har gleden av &#229; introdusere oljefondsjef Nicolai Tangen for n&#230;ringslivet i Stavanger-regionen. P&#229; denne digitale konferansen f&#229;r du h&#248;re Tangens foredrag om forvaltningen, utviklingen og ivaretakelsen av verdens st&#248;rste statlige fond.
LOCATION:Online
END:VEVENT


END:VCALENDAR



