
BEGIN:VCALENDAR
VERSION:2.0
PRODID:-//MarkedsPartner AS//Umbraco CMS//NO
TIMEZONE-ID:Europe/Oslo
X-WR-TIMEZONE:Europe/Oslo


BEGIN:VEVENT
UID:96e4c8887c6345158c0c41b0a0e4e695
URL:https://umbraco.naeringsforeningen.no/moeter/arkiv/offentlig-anskaffelser_2023/
ORGANIZER;CN=Ola Normann:MAILTO:ola.normann@markedspartner.no
DTSTAMP:20230418T063000Z
DTSTART:20230418T063000Z
DTEND:20230418T100000Z
LAST-MODIFIED:20230418T140301Z
SUMMARY:Nyheter innen offentlige anskaffelser
DESCRIPTION:Det offentlige er en stor innkjøper av varer og tjenester og har stor innkjøpsmakt, nærmere 700 milliarder kroner for 2023. Strenge krav til at det offentlige skal gå foran og vise vei i transformasjonen, og det stiller nye krav til alle bedriftene som skal delta i anbudsprosessene.
X-ALT-DESC:Det offentlige er en stor innkj&#248;per av varer og tjenester og har stor innkj&#248;psmakt, n&#230;rmere 700 milliarder kroner for 2023. Strenge krav til at det offentlige skal g&#229; foran og vise vei i transformasjonen, og det stiller nye krav til alle bedriftene som skal delta i anbudsprosessene.
LOCATION:Rosenkildehuset
END:VEVENT


END:VCALENDAR



