
BEGIN:VCALENDAR
VERSION:2.0
PRODID:-//MarkedsPartner AS//Umbraco CMS//NO
TIMEZONE-ID:Europe/Oslo
X-WR-TIMEZONE:Europe/Oslo


BEGIN:VEVENT
UID:f1409f8b1e594b92812c556718f99923
URL:https://umbraco.naeringsforeningen.no/moeter/arkiv/offentlig-anskaffelser_180321/
ORGANIZER;CN=Ola Normann:MAILTO:ola.normann@markedspartner.no
DTSTAMP:20210318T100000Z
DTSTART:20210318T100000Z
DTEND:20210318T113000Z
LAST-MODIFIED:20221031T120904Z
SUMMARY:Offentlige anskaffelser
DESCRIPTION:DIGITALKONFERANSE: Business handler om å vinne kontrakter, og gi en best mulig leveranse for både innkjøper og leverandør. I dette møtet vil vi fokusere på de grunnleggende forhold innen offentlige anskaffelser, og hva som er siste nytt i anskaffelsesregelverket.
X-ALT-DESC:DIGITALKONFERANSE: Business handler om &#229; vinne kontrakter, og gi en best mulig leveranse for b&#229;de innkj&#248;per og leverand&#248;r. I dette m&#248;tet vil vi fokusere p&#229; de grunnleggende forhold innen offentlige anskaffelser, og hva som er siste nytt i anskaffelsesregelverket.
LOCATION:Digital konferanse
END:VEVENT


END:VCALENDAR



