
BEGIN:VCALENDAR
VERSION:2.0
PRODID:-//MarkedsPartner AS//Umbraco CMS//NO
TIMEZONE-ID:Europe/Oslo
X-WR-TIMEZONE:Europe/Oslo


BEGIN:VEVENT
UID:e4287b338a404bd2b4047a87d73bc72a
URL:https://umbraco.naeringsforeningen.no/moeter/arkiv/oekt-verdiskaping-i-en-digital-verden/
ORGANIZER;CN=Ola Normann:MAILTO:ola.normann@markedspartner.no
DTSTAMP:20191204T070000Z
DTSTART:20191204T070000Z
DTEND:20191204T101500Z
LAST-MODIFIED:20221031T114449Z
SUMMARY:Økt verdiskaping i en digital verden
DESCRIPTION:For å fornye, forbedre og forenkle virksomheten din er det viktig å kunne ta de riktige beslutningene. På dette frokostseminaret vil du få svarene du leter etter om hvordan du utnytter verdien av data for å nå de strategiske målene dine.
X-ALT-DESC:For &#229; fornye, forbedre og forenkle virksomheten din er det viktig &#229; kunne ta de riktige beslutningene. P&#229; dette frokostseminaret vil du f&#229; svarene du leter etter om hvordan du utnytter verdien av data for &#229; n&#229; de strategiske m&#229;lene dine.
LOCATION:Rosenkildehuset
END:VEVENT


END:VCALENDAR



