
BEGIN:VCALENDAR
VERSION:2.0
PRODID:-//MarkedsPartner AS//Umbraco CMS//NO
TIMEZONE-ID:Europe/Oslo
X-WR-TIMEZONE:Europe/Oslo


BEGIN:VEVENT
UID:499d6dd66fc94fbfbbbd34332f1e1080
URL:https://umbraco.naeringsforeningen.no/moeter/arkiv/nyskapning-dalane310322/
ORGANIZER;CN=Ola Normann:MAILTO:ola.normann@markedspartner.no
DTSTAMP:20220331T170000Z
DTSTART:20220331T170000Z
DTEND:20220331T200500Z
LAST-MODIFIED:20221031T122455Z
SUMMARY:Muligheter 2022
DESCRIPTION:Hvilke muligheter finnes egentlig i Dalane? Er det noen muligheter i det hele tatt?
X-ALT-DESC:Hvilke muligheter finnes egentlig i Dalane? Er det noen muligheter i det hele tatt?
LOCATION:Grand Hotell
END:VEVENT


END:VCALENDAR



