
BEGIN:VCALENDAR
VERSION:2.0
PRODID:-//MarkedsPartner AS//Umbraco CMS//NO
TIMEZONE-ID:Europe/Oslo
X-WR-TIMEZONE:Europe/Oslo


BEGIN:VEVENT
UID:ca273769185244699ecfa78fc6d7656f
URL:https://umbraco.naeringsforeningen.no/moeter/arkiv/nyskapingsuka-hellelandgruvedrift_070621/
ORGANIZER;CN=Ola Normann:MAILTO:ola.normann@markedspartner.no
DTSTAMP:20210607T090000Z
DTSTART:20210607T090000Z
DTEND:20210607T110000Z
LAST-MODIFIED:20221031T122000Z
SUMMARY:Gruvedrift, Investeringer og muligheter på Helleland.
DESCRIPTION:Nyskapingsuka: Det ligger verdier for flere tusen milliarder kroner i bakken på Helleland og området rundt. Det er helt unikt i global sammenheng! Planene om gruvedrift er konkrete og vil bli presentert av Norsk Mining i dette møtet. Hvilke muligheter gir det for næringslivet i regionen?
X-ALT-DESC:Nyskapingsuka: Det ligger verdier for flere tusen milliarder kroner i bakken p&#229; Helleland og omr&#229;det rundt. Det er helt unikt i global sammenheng! Planene om gruvedrift er konkrete og vil bli presentert av Norsk Mining i dette m&#248;tet. Hvilke muligheter gir det for n&#230;ringslivet i regionen?
LOCATION:Kantina til Energy Hubben p&#229; Langholmen i Egersund.
END:VEVENT


END:VCALENDAR



