
BEGIN:VCALENDAR
VERSION:2.0
PRODID:-//MarkedsPartner AS//Umbraco CMS//NO
TIMEZONE-ID:Europe/Oslo
X-WR-TIMEZONE:Europe/Oslo


BEGIN:VEVENT
UID:2119126b41454d94a07b35e5846f558d
URL:https://umbraco.naeringsforeningen.no/moeter/arkiv/nyemuligheter-hellelandgruvedrift_250321/
ORGANIZER;CN=Ola Normann:MAILTO:ola.normann@markedspartner.no
DTSTAMP:20210325T110000Z
DTSTART:20210325T110000Z
DTEND:20210325T123000Z
LAST-MODIFIED:20221031T121018Z
SUMMARY:Gruvedrift, investeringer og muligheter på Helleland
DESCRIPTION:DIGITALKONFERANSE: Det ligger verdier for flere tusen milliarder kroner i bakken på Helleland og områdene rundt. Det er helt unikt i global sammenheng! Planene om gruvedrift er konkrete, og vil bli presentert på denne konferansen. Hvilke muligheter gir det næringslivet i Rogaland?
X-ALT-DESC:DIGITALKONFERANSE: Det ligger verdier for flere tusen milliarder kroner i bakken p&#229; Helleland og omr&#229;dene rundt. Det er helt unikt i global sammenheng! Planene om gruvedrift er konkrete, og vil bli presentert p&#229; denne konferansen. Hvilke muligheter gir det n&#230;ringslivet i Rogaland?
LOCATION:Online
END:VEVENT


END:VCALENDAR



