
BEGIN:VCALENDAR
VERSION:2.0
PRODID:-//MarkedsPartner AS//Umbraco CMS//NO
TIMEZONE-ID:Europe/Oslo
X-WR-TIMEZONE:Europe/Oslo


BEGIN:VEVENT
UID:35dbdee373b5479192a94a4acc43aa13
URL:https://umbraco.naeringsforeningen.no/moeter/arkiv/norsk-eierskap_des2023/
ORGANIZER;CN=Ola Normann:MAILTO:ola.normann@markedspartner.no
DTSTAMP:20231212T073000Z
DTSTART:20231212T073000Z
DTEND:20231212T090000Z
LAST-MODIFIED:20231212T150742Z
SUMMARY:Kampen mot formueskatt på arbeidende kapital
DESCRIPTION:I Norge må bedriftseiere betale skatt på arbeidende kapital, uavhengig av om bedriften går godt eller dårlig. Konsekvensen av denne skatten er at stadig flere norske eiere flytter til Sveits. Utenlandske selskaper, som slipper denne særskatten, kontrollerer og eier en stadig større andel norske arbeidsplasser.  Vi inviterer til et digitalt frokostmøte hvor du får høre dyktige foredragsholdere som har vært sentrale i debatten.
X-ALT-DESC:I Norge m&#229; bedriftseiere betale skatt p&#229; arbeidende kapital, uavhengig av om bedriften g&#229;r godt eller d&#229;rlig. Konsekvensen av denne skatten er at stadig flere norske eiere flytter til Sveits. Utenlandske selskaper, som slipper denne s&#230;rskatten, kontrollerer og eier en stadig st&#248;rre andel norske arbeidsplasser.  Vi inviterer til et digitalt frokostm&#248;te hvor du f&#229;r h&#248;re dyktige foredragsholdere som har v&#230;rt sentrale i debatten.
LOCATION:Webinar
END:VEVENT


END:VCALENDAR



