
BEGIN:VCALENDAR
VERSION:2.0
PRODID:-//MarkedsPartner AS//Umbraco CMS//NO
TIMEZONE-ID:Europe/Oslo
X-WR-TIMEZONE:Europe/Oslo


BEGIN:VEVENT
UID:9a8b7a740ad64ddf9138cdd73d8f19e4
URL:https://umbraco.naeringsforeningen.no/moeter/arkiv/norges-bank_april-2024/
ORGANIZER;CN=Ola Normann:MAILTO:ola.normann@markedspartner.no
DTSTAMP:20240410T080000Z
DTSTART:20240410T080000Z
DTEND:20240410T101500Z
LAST-MODIFIED:20240411T062946Z
SUMMARY:Møt sentralbanksjef Ida Wolden Bache
DESCRIPTION:Sentralbanksjef Ida Wolden Bache og nestleder i Oljefondet Trond Grande er klare for å møte regionens næringsliv. Det skal handle om pengepolitikk, utsikter for norsk økonomi og forvaltningen av petroleumsformuen.
X-ALT-DESC:Sentralbanksjef Ida Wolden Bache og nestleder i Oljefondet Trond Grande er klare for &#229; m&#248;te regionens n&#230;ringsliv. Det skal handle om pengepolitikk, utsikter for norsk &#248;konomi og forvaltningen av petroleumsformuen.
LOCATION:Clarion Hotel, Kleiva
END:VEVENT


END:VCALENDAR



