
BEGIN:VCALENDAR
VERSION:2.0
PRODID:-//MarkedsPartner AS//Umbraco CMS//NO
TIMEZONE-ID:Europe/Oslo
X-WR-TIMEZONE:Europe/Oslo


BEGIN:VEVENT
UID:d19b42bb40f04b21b591c4635ea847c9
URL:https://umbraco.naeringsforeningen.no/moeter/arkiv/nis-generalforsamling/
ORGANIZER;CN=Ola Normann:MAILTO:ola.normann@markedspartner.no
DTSTAMP:20210422T150000Z
DTSTART:20210422T150000Z
DTEND:20210422T154500Z
LAST-MODIFIED:20221031T121302Z
SUMMARY:Generalforsamling i Næringsforeningen
DESCRIPTION:DIGITALKONFERANSE: Velkommen til årets generalforsamling i Næringsforeningen.
X-ALT-DESC:DIGITALKONFERANSE: Velkommen til &#229;rets generalforsamling i N&#230;ringsforeningen.
LOCATION:Online
END:VEVENT


END:VCALENDAR



