
BEGIN:VCALENDAR
VERSION:2.0
PRODID:-//MarkedsPartner AS//Umbraco CMS//NO
TIMEZONE-ID:Europe/Oslo
X-WR-TIMEZONE:Europe/Oslo


BEGIN:VEVENT
UID:ae5eda6923d64619ae2542791fefa752
URL:https://umbraco.naeringsforeningen.no/moeter/arkiv/nettverkslunsj_grand-hotell_291124/
ORGANIZER;CN=Ola Normann:MAILTO:ola.normann@markedspartner.no
DTSTAMP:20241129T110000Z
DTSTART:20241129T110000Z
DTEND:20241129T130000Z
LAST-MODIFIED:20241201T153534Z
SUMMARY:Nettverkslunsj på Grand i Egersund
DESCRIPTION:Velkommen til nettverkslunsj på Grand Hotell i Egersund 29. november!
X-ALT-DESC:Velkommen til nettverkslunsj p&#229; Grand Hotell i Egersund 29. november!
LOCATION:Grand Hotell Egersund
END:VEVENT


END:VCALENDAR



