
BEGIN:VCALENDAR
VERSION:2.0
PRODID:-//MarkedsPartner AS//Umbraco CMS//NO
TIMEZONE-ID:Europe/Oslo
X-WR-TIMEZONE:Europe/Oslo


BEGIN:VEVENT
UID:d98a06cb5c59437f87cb9fd355605140
URL:https://umbraco.naeringsforeningen.no/moeter/arkiv/nettverkslunsj_grand-hotell_27024/
ORGANIZER;CN=Ola Normann:MAILTO:ola.normann@markedspartner.no
DTSTAMP:20240927T100000Z
DTSTART:20240927T100000Z
DTEND:20240927T120000Z
LAST-MODIFIED:20241127T125344Z
SUMMARY:Nettverkslunsj på Grand i Egersund
DESCRIPTION:Velkommen til nettverkslunsj på Grand Hotell i Egersund 27. september!
X-ALT-DESC:Velkommen til nettverkslunsj p&#229; Grand Hotell i Egersund 27. september!
LOCATION:Grand Hotell Egersund
END:VEVENT


END:VCALENDAR



