
BEGIN:VCALENDAR
VERSION:2.0
PRODID:-//MarkedsPartner AS//Umbraco CMS//NO
TIMEZONE-ID:Europe/Oslo
X-WR-TIMEZONE:Europe/Oslo


BEGIN:VEVENT
UID:0cc91b0fe1994c1bb8871e755010577f
URL:https://umbraco.naeringsforeningen.no/moeter/arkiv/nettverkslunsj_26042024/
ORGANIZER;CN=Ola Normann:MAILTO:ola.normann@markedspartner.no
DTSTAMP:20240426T100000Z
DTSTART:20240426T100000Z
DTEND:20240426T120000Z
LAST-MODIFIED:20240426T144922Z
SUMMARY:Nettverkslunsj i Dalane: AI, AI, AI – hva er dette for noe?
DESCRIPTION:AI eller KI, navnet er ikke det viktigste. Men hva er egentlig kunstig intelligens og hvordan bruker vi det allerede i hverdagen vår?
X-ALT-DESC:AI eller KI, navnet er ikke det viktigste. Men hva er egentlig kunstig intelligens og hvordan bruker vi det allerede i hverdagen v&#229;r?
LOCATION:Grand Hotell Egersund
END:VEVENT


END:VCALENDAR



