
BEGIN:VCALENDAR
VERSION:2.0
PRODID:-//MarkedsPartner AS//Umbraco CMS//NO
TIMEZONE-ID:Europe/Oslo
X-WR-TIMEZONE:Europe/Oslo


BEGIN:VEVENT
UID:e0802bf7cb87433e93d0debc77e80777
URL:https://umbraco.naeringsforeningen.no/moeter/arkiv/nettverkslunsj_220324/
ORGANIZER;CN=Ola Normann:MAILTO:ola.normann@markedspartner.no
DTSTAMP:20240322T110000Z
DTSTART:20240322T110000Z
DTEND:20240322T130000Z
LAST-MODIFIED:20240322T130409Z
SUMMARY:Nettverkslunsj i Dalane: Presentasjonsteknikk og formidling
DESCRIPTION:En god presentasjon kan være avgjørende for om publikumet ditt sovner eller faktisk hører på hva du har å si. Are Sleveland fra Komet Design gir oss sine beste tips og råd.
X-ALT-DESC:En god presentasjon kan v&#230;re avgj&#248;rende for om publikumet ditt sovner eller faktisk h&#248;rer p&#229; hva du har &#229; si. Are Sleveland fra Komet Design gir oss sine beste tips og r&#229;d.
LOCATION:Grand Hotell Egersund
END:VEVENT


END:VCALENDAR



