
BEGIN:VCALENDAR
VERSION:2.0
PRODID:-//MarkedsPartner AS//Umbraco CMS//NO
TIMEZONE-ID:Europe/Oslo
X-WR-TIMEZONE:Europe/Oslo


BEGIN:VEVENT
UID:e29574d7c7a54967a745c07a4954e045
URL:https://umbraco.naeringsforeningen.no/moeter/arkiv/nettverkslunsj-paa-grand_27102023/
ORGANIZER;CN=Ola Normann:MAILTO:ola.normann@markedspartner.no
DTSTAMP:20231027T100000Z
DTSTART:20231027T100000Z
DTEND:20231027T120000Z
LAST-MODIFIED:20231029T173013Z
SUMMARY:Nettverkslunsj på Grand Hotell Egersund
DESCRIPTION:Månedens tema er Dalane Tidende der redaktør Erik Thime og Maarten Robben gir oss et innblikk i lokalavisens verden.
X-ALT-DESC:M&#229;nedens tema er Dalane Tidende der redakt&#248;r Erik Thime og Maarten Robben gir oss et innblikk i lokalavisens verden.
LOCATION:Grand Hotell Egersund
END:VEVENT


END:VCALENDAR



