
BEGIN:VCALENDAR
VERSION:2.0
PRODID:-//MarkedsPartner AS//Umbraco CMS//NO
TIMEZONE-ID:Europe/Oslo
X-WR-TIMEZONE:Europe/Oslo


BEGIN:VEVENT
UID:11f5331cf8134d4ab22ce5070e094741
URL:https://umbraco.naeringsforeningen.no/moeter/arkiv/nettverkslunsj-paa-grand_24112023/
ORGANIZER;CN=Ola Normann:MAILTO:ola.normann@markedspartner.no
DTSTAMP:20231124T110000Z
DTSTART:20231124T110000Z
DTEND:20231124T130000Z
LAST-MODIFIED:20231124T140637Z
SUMMARY:Nettverkslunsj på Grand
DESCRIPTION:LinkedIn er en spennende plattform for synliggjøring og kommunikasjon. Hvordan bruker vi denne muligheten på beste måte?
X-ALT-DESC:LinkedIn er en spennende plattform for synliggj&#248;ring og kommunikasjon. Hvordan bruker vi denne muligheten p&#229; beste m&#229;te?
LOCATION:Grand Hotell Egersund
END:VEVENT


END:VCALENDAR



