
BEGIN:VCALENDAR
VERSION:2.0
PRODID:-//MarkedsPartner AS//Umbraco CMS//NO
TIMEZONE-ID:Europe/Oslo
X-WR-TIMEZONE:Europe/Oslo


BEGIN:VEVENT
UID:b61110bc900b4c7d8a55eb8b23fa7c2d
URL:https://umbraco.naeringsforeningen.no/moeter/arkiv/nettverkslunsj-paa-grand-hotell_29092023/
ORGANIZER;CN=Ola Normann:MAILTO:ola.normann@markedspartner.no
DTSTAMP:20230929T100000Z
DTSTART:20230929T100000Z
DTEND:20230929T120000Z
LAST-MODIFIED:20231001T155135Z
SUMMARY:Nettverkslunsj på Grand Hotell Egersund
DESCRIPTION:Bli med på nettverkslunsj! Månedens tema er: Walk in The Park med Espen Husvæg.
X-ALT-DESC:Bli med p&#229; nettverkslunsj! M&#229;nedens tema er: Walk in The Park med Espen Husv&#230;g.
LOCATION:Grand Hotell Egersund
END:VEVENT


END:VCALENDAR



