
BEGIN:VCALENDAR
VERSION:2.0
PRODID:-//MarkedsPartner AS//Umbraco CMS//NO
TIMEZONE-ID:Europe/Oslo
X-WR-TIMEZONE:Europe/Oslo


BEGIN:VEVENT
UID:f3787be9546b402cbc14c0340c202eff
URL:https://umbraco.naeringsforeningen.no/moeter/arkiv/nettverkslunsj-med-sjoemat-og-vin_020224/
ORGANIZER;CN=Ola Normann:MAILTO:ola.normann@markedspartner.no
DTSTAMP:20240202T130000Z
DTSTART:20240202T130000Z
DTEND:20240202T150000Z
LAST-MODIFIED:20240207T132843Z
SUMMARY:Nettverkslunsj: Sjømatsymfoni med unike smaksopplevelser
DESCRIPTION:I samarbeid med Næringsforeningen inviterer Egersund Sjømatfestival til nettverkslunsj. Geir Sølve Sleveland fra Grand Hotell og Roar Hasle fra Megabite forteller om idèen bak Egersund Sjømatfestival, i tillegg blir det nydelige smaksprøver.
X-ALT-DESC:I samarbeid med N&#230;ringsforeningen inviterer Egersund Sj&#248;matfestival til nettverkslunsj. Geir S&#248;lve Sleveland fra Grand Hotell og Roar Hasle fra Megabite forteller om id&#232;en bak Egersund Sj&#248;matfestival, i tillegg blir det nydelige smakspr&#248;ver.
LOCATION:Grand Hotell, Eigra.
END:VEVENT


END:VCALENDAR



