
BEGIN:VCALENDAR
VERSION:2.0
PRODID:-//MarkedsPartner AS//Umbraco CMS//NO
TIMEZONE-ID:Europe/Oslo
X-WR-TIMEZONE:Europe/Oslo


BEGIN:VEVENT
UID:bcc2cc9467c944e99c0497e9e98ec1ef
URL:https://umbraco.naeringsforeningen.no/moeter/arkiv/nettverksbygging-i-digitale-tider/
ORGANIZER;CN=Ola Normann:MAILTO:ola.normann@markedspartner.no
DTSTAMP:20210409T090000Z
DTSTART:20210409T090000Z
DTEND:20210409T103000Z
LAST-MODIFIED:20221031T121027Z
SUMMARY:Nettverksbygging i digitale tider
DESCRIPTION:DIGITALKONFERANSE: Bli god på å bygge og pleie nettverk, i ny digital tid. Vi inviterer til digital konferanse der du lærer hvordan du strategisk går frem for å styrke omfanget av ditt nettverk på digitale flater og andre ikke-sosiale arenaer.
X-ALT-DESC:DIGITALKONFERANSE: Bli god p&#229; &#229; bygge og pleie nettverk, i ny digital tid. Vi inviterer til digital konferanse der du l&#230;rer hvordan du strategisk g&#229;r frem for &#229; styrke omfanget av ditt nettverk p&#229; digitale flater og andre ikke-sosiale arenaer.
LOCATION:Online
END:VEVENT


END:VCALENDAR



