
BEGIN:VCALENDAR
VERSION:2.0
PRODID:-//MarkedsPartner AS//Umbraco CMS//NO
TIMEZONE-ID:Europe/Oslo
X-WR-TIMEZONE:Europe/Oslo


BEGIN:VEVENT
UID:0ed779a6565d42e18568b41d3a1de029
URL:https://umbraco.naeringsforeningen.no/moeter/arkiv/nedbemanning-og-off-boarding-okt2020/
ORGANIZER;CN=Ola Normann:MAILTO:ola.normann@markedspartner.no
DTSTAMP:20201016T063000Z
DTSTART:20201016T063000Z
DTEND:20201016T093000Z
LAST-MODIFIED:20221031T114252Z
SUMMARY:Forsvarlig nedbemanning og off-boarding
DESCRIPTION:Hvilke juridiske regler gjelder ved en nedbemanningsprosess og hvordan avslutter man et arbeidsforhold uten risiko? Bli med og lær av PwC og Projure.
X-ALT-DESC:Hvilke juridiske regler gjelder ved en nedbemanningsprosess og hvordan avslutter man et arbeidsforhold uten risiko? Bli med og l&#230;r av PwC og Projure.
LOCATION:Rosenkildehuset
END:VEVENT


END:VCALENDAR



