
BEGIN:VCALENDAR
VERSION:2.0
PRODID:-//MarkedsPartner AS//Umbraco CMS//NO
TIMEZONE-ID:Europe/Oslo
X-WR-TIMEZONE:Europe/Oslo


BEGIN:VEVENT
UID:ac129a1d32cd4ff6acb1983c43ed5320
URL:https://umbraco.naeringsforeningen.no/moeter/arkiv/naeringstreff-sandnes_221123/
ORGANIZER;CN=Ola Normann:MAILTO:ola.normann@markedspartner.no
DTSTAMP:20231122T070000Z
DTSTART:20231122T070000Z
DTEND:20231122T093000Z
LAST-MODIFIED:20231122T131858Z
SUMMARY:NÆRINGSTREFF SANDNES: Møt den nye politiske ledelsen i Sandnes
DESCRIPTION:Velkommen på julefrokost hvor du kan møte den nye politiske ledelsen i Sandnes. Sammen vil vi se på hvordan vi kan gå fra lillebror til tvillingbror.
X-ALT-DESC:Velkommen p&#229; julefrokost hvor du kan m&#248;te den nye politiske ledelsen i Sandnes. Sammen vil vi se p&#229; hvordan vi kan g&#229; fra lillebror til tvillingbror.
LOCATION:Sandnes Sparebank, Den Gule Banken
END:VEVENT


END:VCALENDAR



