
BEGIN:VCALENDAR
VERSION:2.0
PRODID:-//MarkedsPartner AS//Umbraco CMS//NO
TIMEZONE-ID:Europe/Oslo
X-WR-TIMEZONE:Europe/Oslo


BEGIN:VEVENT
UID:038b4ad11b5b49249c5eb8d0f4e05544
URL:https://umbraco.naeringsforeningen.no/moeter/arkiv/naeringstreff-sandnes_190324/
ORGANIZER;CN=Ola Normann:MAILTO:ola.normann@markedspartner.no
DTSTAMP:20240319T070000Z
DTSTART:20240319T070000Z
DTEND:20240319T100000Z
LAST-MODIFIED:20240321T071042Z
SUMMARY:Næringstreff Sandnes: Risiko og konsekvenser ved vekting av klima og miljø
DESCRIPTION:Klima- og miljøhensyn skal fra januar i år vektes med 30 prosent i alle offentlige anskaffelser. Er det roten til mer konflikt? Det vil gi virksomheter som fremmer klima- og miljøvennlige løsninger et stort konkurransefortrinn. Uten klare retningslinjer for hva som skal vektes er det en risiko for at de dyreste og minst miljøvennlige tilbudene vinner frem. Bli med og ta en del i diskusjonen rundt hvilke standarder og retninglinjer som skal underbygge kravet.
X-ALT-DESC:Klima- og milj&#248;hensyn skal fra januar i &#229;r vektes med 30 prosent i alle offentlige anskaffelser. Er det roten til mer konflikt? Det vil gi virksomheter som fremmer klima- og milj&#248;vennlige l&#248;sninger et stort konkurransefortrinn. Uten klare retningslinjer for hva som skal vektes er det en risiko for at de dyreste og minst milj&#248;vennlige tilbudene vinner frem. Bli med og ta en del i diskusjonen rundt hvilke standarder og retninglinjer som skal underbygge kravet.
LOCATION:B&#197;DEOG, Sandnes
END:VEVENT


END:VCALENDAR



