
BEGIN:VCALENDAR
VERSION:2.0
PRODID:-//MarkedsPartner AS//Umbraco CMS//NO
TIMEZONE-ID:Europe/Oslo
X-WR-TIMEZONE:Europe/Oslo


BEGIN:VEVENT
UID:3acc4d624565474a86f82b486e44e0dd
URL:https://umbraco.naeringsforeningen.no/moeter/arkiv/naeringstreff-sandnes_110325/
ORGANIZER;CN=Ola Normann:MAILTO:ola.normann@markedspartner.no
DTSTAMP:20250311T070000Z
DTSTART:20250311T070000Z
DTEND:20250311T100000Z
LAST-MODIFIED:20250317T112234Z
SUMMARY:Næringstreff Sandnes: Hvordan utvikler vi Sandnes sammen?
DESCRIPTION:Er du frustrert over hvor krevende plan- og byggesaker kan være? På Næringstreff Sandnes setter vi søkelyset på utfordringene mange aktører møter i denne prosessen, og hva vi kan gjøre for å løse dem sammen.
X-ALT-DESC:Er du frustrert over hvor krevende plan- og byggesaker kan v&#230;re? P&#229; N&#230;ringstreff Sandnes setter vi s&#248;kelyset p&#229; utfordringene mange akt&#248;rer m&#248;ter i denne prosessen, og hva vi kan gj&#248;re for &#229; l&#248;se dem sammen.
LOCATION:Quality Hotel Residence
END:VEVENT


END:VCALENDAR



