
BEGIN:VCALENDAR
VERSION:2.0
PRODID:-//MarkedsPartner AS//Umbraco CMS//NO
TIMEZONE-ID:Europe/Oslo
X-WR-TIMEZONE:Europe/Oslo


BEGIN:VEVENT
UID:5545ecc5c7cf4d6ea8f8a6757123c5f7
URL:https://umbraco.naeringsforeningen.no/moeter/arkiv/naeringstreff-sandnes_041224/
ORGANIZER;CN=Ola Normann:MAILTO:ola.normann@markedspartner.no
DTSTAMP:20241204T064500Z
DTSTART:20241204T064500Z
DTEND:20241204T094000Z
LAST-MODIFIED:20241204T131347Z
SUMMARY:Julefrokost Sandnes: Mulighetene for 2025
DESCRIPTION:Hvordan tar vi hys på de mulighetene som kommer? Under årets julefrokost i Sandnes retter vi fokuset på hva vi kan få til i 2025. Rogaland Sparebank gir deg de økonomiske utsiktene for året som kommer, og vi ser på hva næringslivet i regionen kan forvente seg.
X-ALT-DESC:Hvordan tar vi hys p&#229; de mulighetene som kommer? Under &#229;rets julefrokost i Sandnes retter vi fokuset p&#229; hva vi kan f&#229; til i 2025. Rogaland Sparebank gir deg de &#248;konomiske utsiktene for &#229;ret som kommer, og vi ser p&#229; hva n&#230;ringslivet i regionen kan forvente seg.
LOCATION:Rogaland Sparebank
END:VEVENT


END:VCALENDAR



