
BEGIN:VCALENDAR
VERSION:2.0
PRODID:-//MarkedsPartner AS//Umbraco CMS//NO
TIMEZONE-ID:Europe/Oslo
X-WR-TIMEZONE:Europe/Oslo


BEGIN:VEVENT
UID:afe087e9df9646ae94ee6ff7e84f0af9
URL:https://umbraco.naeringsforeningen.no/moeter/arkiv/naeringstreff-sandnes/
ORGANIZER;CN=Ola Normann:MAILTO:ola.normann@markedspartner.no
DTSTAMP:20250610T060000Z
DTSTART:20250610T060000Z
DTEND:20250610T083000Z
LAST-MODIFIED:20250610T113854Z
SUMMARY:Næringstreff Sandnes: Innovasjon under press
DESCRIPTION:Hvordan styrer vi mot vekst i en tid preget av geopolitisk uro, svekket konkurransekraft og rask omstilling?
X-ALT-DESC:Hvordan styrer vi mot vekst i en tid preget av geopolitisk uro, svekket konkurransekraft og rask omstilling?
LOCATION:FOMO works
END:VEVENT


END:VCALENDAR



