
BEGIN:VCALENDAR
VERSION:2.0
PRODID:-//MarkedsPartner AS//Umbraco CMS//NO
TIMEZONE-ID:Europe/Oslo
X-WR-TIMEZONE:Europe/Oslo


BEGIN:VEVENT
UID:3429c3084b9a44f4bb352e1381c4488b
URL:https://umbraco.naeringsforeningen.no/moeter/arkiv/naeringstreff-sandnes-131124/
ORGANIZER;CN=Ola Normann:MAILTO:ola.normann@markedspartner.no
DTSTAMP:20241113T070000Z
DTSTART:20241113T070000Z
DTEND:20241113T100000Z
LAST-MODIFIED:20241113T121522Z
SUMMARY:Næringstreff Sandnes: Status samferdselsprosjekter 
DESCRIPTION:Samferdsel og infrastruktur spiller en avgjørende rolle i utviklingen av Sandnes som et attraktivt sted for både bedrifter og innbyggere. På dette treffet vil du få en helhetlig statusoppdatering på de største transportprosjektene i og rundt Sandnes, og vi setter fokus på hvordan disse påvirker næringslivet i regionen.
X-ALT-DESC:Samferdsel og infrastruktur spiller en avgj&#248;rende rolle i utviklingen av Sandnes som et attraktivt sted for b&#229;de bedrifter og innbyggere. P&#229; dette treffet vil du f&#229; en helhetlig statusoppdatering p&#229; de st&#248;rste transportprosjektene i og rundt Sandnes, og vi setter fokus p&#229; hvordan disse p&#229;virker n&#230;ringslivet i regionen.
LOCATION:SydVest, Sandnes Brygge
END:VEVENT


END:VCALENDAR



