
BEGIN:VCALENDAR
VERSION:2.0
PRODID:-//MarkedsPartner AS//Umbraco CMS//NO
TIMEZONE-ID:Europe/Oslo
X-WR-TIMEZONE:Europe/Oslo


BEGIN:VEVENT
UID:9d3ed32f9b6c4c71a16789c366723dd2
URL:https://umbraco.naeringsforeningen.no/moeter/arkiv/naeringstreff-i-sandnes_310823/
ORGANIZER;CN=Ola Normann:MAILTO:ola.normann@markedspartner.no
DTSTAMP:20230831T160000Z
DTSTART:20230831T160000Z
DTEND:20230831T183000Z
LAST-MODIFIED:20230901T061817Z
SUMMARY:Politikerne møter næringslivet i Sandnes
DESCRIPTION:Næringslivet er avhengig av forutsigbarhet og trygge rammer som settes av politikerne. I forkant av valget har vi derfor invitert politikerne til en debatt med næringslivet. Vi tar opp temaer innen arealpolitikk, bolig, samarbeid og samferdsel. Vel møtt til deg som er næringsdrivende, medarbeider eller innbygger.
X-ALT-DESC:N&#230;ringslivet er avhengig av forutsigbarhet og trygge rammer som settes av politikerne. I forkant av valget har vi derfor invitert politikerne til en debatt med n&#230;ringslivet. Vi tar opp temaer innen arealpolitikk, bolig, samarbeid og samferdsel. Vel m&#248;tt til deg som er n&#230;ringsdrivende, medarbeider eller innbygger.
LOCATION:Melkebaren, Sandnes
END:VEVENT


END:VCALENDAR



