
BEGIN:VCALENDAR
VERSION:2.0
PRODID:-//MarkedsPartner AS//Umbraco CMS//NO
TIMEZONE-ID:Europe/Oslo
X-WR-TIMEZONE:Europe/Oslo


BEGIN:VEVENT
UID:60b9c5e7c5be45968c03f7ffbcfd5228
URL:https://umbraco.naeringsforeningen.no/moeter/arkiv/naeringspub-a-ftərvoerk/
ORGANIZER;CN=Ola Normann:MAILTO:ola.normann@markedspartner.no
DTSTAMP:20230223T150000Z
DTSTART:20230223T150000Z
DTEND:20230223T180000Z
LAST-MODIFIED:20230224T091042Z
SUMMARY:Næringspub – [a:´ftərvørk]
DESCRIPTION:Bli med når vi arrangerer vår aller første Næringspub på Zip 4020 i Jåttåvågen!
X-ALT-DESC:Bli med n&#229;r vi arrangerer v&#229;r aller f&#248;rste N&#230;ringspub p&#229; Zip 4020 i J&#229;tt&#229;v&#229;gen!
LOCATION:Zip 4020, J&#229;tt&#229;v&#229;gen
END:VEVENT


END:VCALENDAR



