
BEGIN:VCALENDAR
VERSION:2.0
PRODID:-//MarkedsPartner AS//Umbraco CMS//NO
TIMEZONE-ID:Europe/Oslo
X-WR-TIMEZONE:Europe/Oslo


BEGIN:VEVENT
UID:fa94db356bc84db5859a54af50ed5e5f
URL:https://umbraco.naeringsforeningen.no/moeter/arkiv/naeringspub-a-ftərvoerk-zip-4020/
ORGANIZER;CN=Ola Normann:MAILTO:ola.normann@markedspartner.no
DTSTAMP:20230928T140000Z
DTSTART:20230928T140000Z
DTEND:20230928T170000Z
LAST-MODIFIED:20230929T120345Z
SUMMARY:Næringspub [a:´ftərvørk] – Zip 4020
DESCRIPTION:Bli med når vi arrangerer Næringspub på Zip 4020 i Jåttåvågen!
X-ALT-DESC:Bli med n&#229;r vi arrangerer N&#230;ringspub p&#229; Zip 4020 i J&#229;tt&#229;v&#229;gen!
LOCATION:Zip 4020, J&#229;tt&#229;v&#229;gveien 7, 4020 Stavanger
END:VEVENT


END:VCALENDAR



