
BEGIN:VCALENDAR
VERSION:2.0
PRODID:-//MarkedsPartner AS//Umbraco CMS//NO
TIMEZONE-ID:Europe/Oslo
X-WR-TIMEZONE:Europe/Oslo


BEGIN:VEVENT
UID:7162ae8e6ec24dba9eb8b8c0ad76f4b9
URL:https://umbraco.naeringsforeningen.no/moeter/arkiv/naeringspub-a-ftərvoerk-paa-melkebaren/
ORGANIZER;CN=Ola Normann:MAILTO:ola.normann@markedspartner.no
DTSTAMP:20230330T140000Z
DTSTART:20230330T140000Z
DTEND:20230330T170000Z
LAST-MODIFIED:20230405T081158Z
SUMMARY:Næringspub – [a:´ftərvørk] på Melkebaren
DESCRIPTION:Bli med når vi arrangerer Næringspub på Melkebaren i Sandnes!
X-ALT-DESC:Bli med n&#229;r vi arrangerer N&#230;ringspub p&#229; Melkebaren i Sandnes!
LOCATION:Melkebaren, Industrigata 1, Sandnes
END:VEVENT


END:VCALENDAR



