
BEGIN:VCALENDAR
VERSION:2.0
PRODID:-//MarkedsPartner AS//Umbraco CMS//NO
TIMEZONE-ID:Europe/Oslo
X-WR-TIMEZONE:Europe/Oslo


BEGIN:VEVENT
UID:8e837036024b44b6aa626a0668cce096
URL:https://umbraco.naeringsforeningen.no/moeter/arkiv/naeringsprisen-i-gjesdal_060225/
ORGANIZER;CN=Ola Normann:MAILTO:ola.normann@markedspartner.no
DTSTAMP:20250206T173000Z
DTSTART:20250206T173000Z
DTEND:20250206T220000Z
LAST-MODIFIED:20250207T070310Z
SUMMARY:Festkveld med Næringsprisen i Gjesdal
DESCRIPTION:Hvem får Næringsprisen og prisen for Årets Vær? Velkommen til festkveld for å hedre næringslivet i Gjesdal kommune.
X-ALT-DESC:Hvem f&#229;r N&#230;ringsprisen og prisen for &#197;rets V&#230;r? Velkommen til festkveld for &#229; hedre n&#230;ringslivet i Gjesdal kommune.
LOCATION:Jonas B, &#197;lg&#229;rd
END:VEVENT


END:VCALENDAR



