
BEGIN:VCALENDAR
VERSION:2.0
PRODID:-//MarkedsPartner AS//Umbraco CMS//NO
TIMEZONE-ID:Europe/Oslo
X-WR-TIMEZONE:Europe/Oslo


BEGIN:VEVENT
UID:581913588b91435caf93307b33405228
URL:https://umbraco.naeringsforeningen.no/moeter/arkiv/naeringslivsprisen-gjesdal_100223/
ORGANIZER;CN=Ola Normann:MAILTO:ola.normann@markedspartner.no
DTSTAMP:20230210T173000Z
DTSTART:20230210T173000Z
DTEND:20230210T213000Z
LAST-MODIFIED:20230213T073434Z
SUMMARY:Festkveld med Næringsprisen for Gjesdal
DESCRIPTION:Hvem får Næringsprisen og prisen for Årets Vær? Velkommen til festkveld for å hedre næringslivet i Gjesdal kommune.
X-ALT-DESC:Hvem f&#229;r N&#230;ringsprisen og prisen for &#197;rets V&#230;r? Velkommen til festkveld for &#229; hedre n&#230;ringslivet i Gjesdal kommune.
LOCATION:Skurvetunet
END:VEVENT


END:VCALENDAR



