
BEGIN:VCALENDAR
VERSION:2.0
PRODID:-//MarkedsPartner AS//Umbraco CMS//NO
TIMEZONE-ID:Europe/Oslo
X-WR-TIMEZONE:Europe/Oslo


BEGIN:VEVENT
UID:1364814fb7a9475d951cdac9917f9f80
URL:https://umbraco.naeringsforeningen.no/moeter/arkiv/naeringskveld-i-lund_300124/
ORGANIZER;CN=Ola Normann:MAILTO:ola.normann@markedspartner.no
DTSTAMP:20240130T180000Z
DTSTART:20240130T180000Z
DTEND:20240130T200000Z
LAST-MODIFIED:20240131T094243Z
SUMMARY:Næringskveld i Lund
DESCRIPTION:I samarbeid med Lund kommune arrangerer vi en god start på året med næringskveld på Moi i Lund tirsdag 30. januar kl. 19.00.
X-ALT-DESC:I samarbeid med Lund kommune arrangerer vi en god start p&#229; &#229;ret med n&#230;ringskveld p&#229; Moi i Lund tirsdag 30. januar kl. 19.00.
LOCATION:Lundetun, Moi
END:VEVENT


END:VCALENDAR



