
BEGIN:VCALENDAR
VERSION:2.0
PRODID:-//MarkedsPartner AS//Umbraco CMS//NO
TIMEZONE-ID:Europe/Oslo
X-WR-TIMEZONE:Europe/Oslo


BEGIN:VEVENT
UID:3d7234b38c6149ddba93f911f3c18d76
URL:https://umbraco.naeringsforeningen.no/moeter/arkiv/naeringsaktive-lund-kommune_081221/
ORGANIZER;CN=Ola Normann:MAILTO:ola.normann@markedspartner.no
DTSTAMP:20220309T170000Z
DTSTART:20220309T170000Z
DTEND:20220309T200000Z
LAST-MODIFIED:20221031T122808Z
SUMMARY:Næringsaktive Lund kommune 
DESCRIPTION:Endelig!
Næringsforeningen, Omstillingsprogrammet i Dalane og Lund kommune inviterer til møte med næringslivet.
X-ALT-DESC:Endelig!
N&#230;ringsforeningen, Omstillingsprogrammet i Dalane og Lund kommune inviterer til m&#248;te med n&#230;ringslivet.
LOCATION:Lundetun, Moi.
END:VEVENT


END:VCALENDAR



