
BEGIN:VCALENDAR
VERSION:2.0
PRODID:-//MarkedsPartner AS//Umbraco CMS//NO
TIMEZONE-ID:Europe/Oslo
X-WR-TIMEZONE:Europe/Oslo


BEGIN:VEVENT
UID:d0917c9a4cdb448a84293689fc3c2645
URL:https://umbraco.naeringsforeningen.no/moeter/arkiv/naering-eller-bolig-i-sandnes/
ORGANIZER;CN=Ola Normann:MAILTO:ola.normann@markedspartner.no
DTSTAMP:20191015T060000Z
DTSTART:20191015T060000Z
DTEND:20191015T083000Z
LAST-MODIFIED:20221031T113541Z
SUMMARY:Næring eller bolig i Sandnes?
DESCRIPTION:Velkommen til den viktigste møteplassen i Sandnes, hvor vi spør hvordan man prioriterer utbygging og utvikling av næringsarealer eller boarealer.
X-ALT-DESC:Velkommen til den viktigste m&#248;teplassen i Sandnes, hvor vi sp&#248;r hvordan man prioriterer utbygging og utvikling av n&#230;ringsarealer eller boarealer.
LOCATION:Vitenfabrikken
END:VEVENT


END:VCALENDAR



