
BEGIN:VCALENDAR
VERSION:2.0
PRODID:-//MarkedsPartner AS//Umbraco CMS//NO
TIMEZONE-ID:Europe/Oslo
X-WR-TIMEZONE:Europe/Oslo


BEGIN:VEVENT
UID:ff738714c88a492c968d472b79c2bbb8
URL:https://umbraco.naeringsforeningen.no/moeter/arkiv/muligheter_snu-tankene-og-bli-sjef-i-eget-liv-_190421/
ORGANIZER;CN=Ola Normann:MAILTO:ola.normann@markedspartner.no
DTSTAMP:20210419T110000Z
DTSTART:20210419T110000Z
DTEND:20210419T121500Z
LAST-MODIFIED:20221031T121151Z
SUMMARY:Muligheter: Snu tankene og bli sjef i eget liv!
DESCRIPTION:DIGITALKONFERANSE: Er du nylig blitt jobbsøker eller har du kanskje vært det en stund? Lurer du på hva du egentlig kan og vil eller har du mistet troen på at du skal finne noe nytt? Mange synes at denne situasjonen kan være ubehagelig, slitsomt og skamfullt.
X-ALT-DESC:DIGITALKONFERANSE: Er du nylig blitt jobbs&#248;ker eller har du kanskje v&#230;rt det en stund? Lurer du p&#229; hva du egentlig kan og vil eller har du mistet troen p&#229; at du skal finne noe nytt? Mange synes at denne situasjonen kan v&#230;re ubehagelig, slitsomt og skamfullt.
LOCATION:Online
END:VEVENT


END:VCALENDAR



