
BEGIN:VCALENDAR
VERSION:2.0
PRODID:-//MarkedsPartner AS//Umbraco CMS//NO
TIMEZONE-ID:Europe/Oslo
X-WR-TIMEZONE:Europe/Oslo


BEGIN:VEVENT
UID:af47e859f314416abe12c4ea9f80d13a
URL:https://umbraco.naeringsforeningen.no/moeter/arkiv/muligheter_270921/
ORGANIZER;CN=Ola Normann:MAILTO:ola.normann@markedspartner.no
DTSTAMP:20210927T110000Z
DTSTART:20210927T110000Z
DTEND:20210927T120000Z
LAST-MODIFIED:20221031T122430Z
SUMMARY:Muligheter: TEMA
DESCRIPTION:DIGITALKONFERANSE
X-ALT-DESC:DIGITALKONFERANSE
LOCATION:Online
END:VEVENT


END:VCALENDAR



